BEGIN:VCALENDAR
VERSION:2.0
PRODID:-//wp-events-plugin.com//7.2.3.1//EN
TZID:America/New_York
X-WR-TIMEZONE:America/New_York
BEGIN:VEVENT
UID:133@templesholomflorida.org
DTSTART;TZID=America/New_York:20260326T084500
DTEND;TZID=America/New_York:20260326T103000
DTSTAMP:20260331T175036Z
URL:https://www.templesholomflorida.org/events/weekday-minyan-2026-04-02/
SUMMARY:Weekday Minyan
DESCRIPTION:LIVE &amp\; ZOOM\n\nConnect via ZOOM\n\nYou can Join a Meeting 
 via Zoom with this ID: 83892113316
ATTACH;FMTTYPE=image/jpeg:https://www.templesholomflorida.org/wp-content/u
 ploads/2026/01/coffee-bagel-orange-juice.jpg
CATEGORIES:Services
END:VEVENT
BEGIN:VTIMEZONE
TZID:America/New_York
X-LIC-LOCATION:America/New_York
BEGIN:DAYLIGHT
DTSTART:20260308T030000
TZOFFSETFROM:-0500
TZOFFSETTO:-0400
TZNAME:EDT
END:DAYLIGHT
END:VTIMEZONE
END:VCALENDAR