BEGIN:VCALENDAR
VERSION:2.0
PRODID:-//wp-events-plugin.com//7.2.3.1//EN
TZID:America/New_York
X-WR-TIMEZONE:America/New_York
BEGIN:VEVENT
UID:116@templesholomflorida.org
DTSTART;TZID=America/New_York:20260202T084500
DTEND;TZID=America/New_York:20260202T084500
DTSTAMP:20260121T151738Z
URL:https://www.templesholomflorida.org/events/weekday-minyan-2026-02-02/
SUMMARY:Weekday Minyan
DESCRIPTION:
ATTACH;FMTTYPE=image/jpeg:https://www.templesholomflorida.org/wp-content/u
 ploads/2026/01/coffee-bagel-orange-juice.jpg
CATEGORIES:Services
END:VEVENT
BEGIN:VTIMEZONE
TZID:America/New_York
X-LIC-LOCATION:America/New_York
BEGIN:STANDARD
DTSTART:20251102T010000
TZOFFSETFROM:-0400
TZOFFSETTO:-0500
TZNAME:EST
END:STANDARD
END:VTIMEZONE
END:VCALENDAR