BEGIN:VCALENDAR
VERSION:2.0
PRODID:-//wp-events-plugin.com//7.2.3.1//EN
TZID:America/New_York
X-WR-TIMEZONE:America/New_York
BEGIN:VEVENT
UID:671@templesholomflorida.org
DTSTART;TZID=America/New_York:20260222T200000
DTEND;TZID=America/New_York:20260222T200000
DTSTAMP:20260302T003335Z
URL:https://www.templesholomflorida.org/events/sunday-game-night-codenames
 -2026-02-22/
SUMMARY:Sunday Game Night: Codenames
DESCRIPTION:Instruction will be given. Zoom only. Zoom ID: 88694051145
ATTACH;FMTTYPE=image/jpeg:https://www.templesholomflorida.org/wp-content/u
 ploads/2026/01/codenames.jpg
CATEGORIES:Ongoing Events
END:VEVENT
BEGIN:VTIMEZONE
TZID:America/New_York
X-LIC-LOCATION:America/New_York
BEGIN:STANDARD
DTSTART:20251102T010000
TZOFFSETFROM:-0400
TZOFFSETTO:-0500
TZNAME:EST
END:STANDARD
END:VTIMEZONE
END:VCALENDAR