BEGIN:VCALENDAR
VERSION:2.0
PRODID:-//wp-events-plugin.com//7.2.3.1//EN
TZID:America/New_York
X-WR-TIMEZONE:America/New_York
BEGIN:VEVENT
UID:768@templesholomflorida.org
DTSTART;TZID=America/New_York:20260301T043000
DTEND;TZID=America/New_York:20260301T043000
DTSTAMP:20260217T204541Z
URL:https://www.templesholomflorida.org/events/purim/
SUMMARY:Purim
DESCRIPTION:ladksjga[erjgobzxdbm \;xcv
ATTACH;FMTTYPE=image/jpeg:https://www.templesholomflorida.org/wp-content/u
 ploads/2026/02/PURIMflyer.jpg
CATEGORIES:Special Events
END:VEVENT
BEGIN:VTIMEZONE
TZID:America/New_York
X-LIC-LOCATION:America/New_York
BEGIN:STANDARD
DTSTART:20251102T010000
TZOFFSETFROM:-0400
TZOFFSETTO:-0500
TZNAME:EST
END:STANDARD
END:VTIMEZONE
END:VCALENDAR