BEGIN:VCALENDAR
VERSION:2.0
PRODID:-//wp-events-plugin.com//7.2.3.1//EN
TZID:America/New_York
X-WR-TIMEZONE:America/New_York
BEGIN:VEVENT
UID:775@templesholomflorida.org
DTSTART;TZID=America/New_York:20260322T130000
DTEND;TZID=America/New_York:20260322T133000
DTSTAMP:20260322T150319Z
URL:https://www.templesholomflorida.org/events/memorial-service-dr-murray-
 lichtenstein/
SUMMARY:Memorial Service Dr. Murray Lichtenstein
DESCRIPTION:LIVE  AND  ZOOM LINK
ATTACH;FMTTYPE=image/jpeg:https://www.templesholomflorida.org/wp-content/u
 ploads/2026/03/214734_orig.jpg
CATEGORIES:Special Events
END:VEVENT
BEGIN:VTIMEZONE
TZID:America/New_York
X-LIC-LOCATION:America/New_York
BEGIN:DAYLIGHT
DTSTART:20260308T030000
TZOFFSETFROM:-0500
TZOFFSETTO:-0400
TZNAME:EDT
END:DAYLIGHT
END:VTIMEZONE
END:VCALENDAR