BEGIN:VCALENDAR
VERSION:2.0
PRODID:-//wp-events-plugin.com//7.2.3.1//EN
TZID:America/New_York
X-WR-TIMEZONE:America/New_York
BEGIN:VEVENT
UID:534@templesholomflorida.org
DTSTART;TZID=America/New_York:20260212T110000
DTEND;TZID=America/New_York:20260212T140000
DTSTAMP:20260121T152215Z
URL:https://www.templesholomflorida.org/events/mahjong-2026-02-12/
SUMMARY:Mahjong
DESCRIPTION:It's fun\, it's social and it's a great way to spend an afterno
 on.
ATTACH;FMTTYPE=image/jpeg:https://www.templesholomflorida.org/wp-content/u
 ploads/2026/01/mahjong.jpg
CATEGORIES:Ongoing Events
END:VEVENT
BEGIN:VTIMEZONE
TZID:America/New_York
X-LIC-LOCATION:America/New_York
BEGIN:STANDARD
DTSTART:20251102T010000
TZOFFSETFROM:-0400
TZOFFSETTO:-0500
TZNAME:EST
END:STANDARD
END:VTIMEZONE
END:VCALENDAR