BEGIN:VCALENDAR
VERSION:2.0
PRODID:-//wp-events-plugin.com//7.2.3.1//EN
TZID:America/New_York
X-WR-TIMEZONE:America/New_York
BEGIN:VEVENT
UID:7@templesholomflorida.org
DTSTART;TZID=America/New_York:20260206T190000
DTEND;TZID=America/New_York:20260206T190000
DTSTAMP:20260120T170817Z
URL:https://www.templesholomflorida.org/events/friday-night-services-2026-
 02-06/
SUMMARY:Friday Night Services
DESCRIPTION:Zoom only except where otherwise noted
CATEGORIES:Services
END:VEVENT
BEGIN:VTIMEZONE
TZID:America/New_York
X-LIC-LOCATION:America/New_York
BEGIN:STANDARD
DTSTART:20251102T010000
TZOFFSETFROM:-0400
TZOFFSETTO:-0500
TZNAME:EST
END:STANDARD
END:VTIMEZONE
END:VCALENDAR