BEGIN:VCALENDAR
VERSION:2.0
PRODID:-//wp-events-plugin.com//7.2.3.1//EN
TZID:America/New_York
X-WR-TIMEZONE:America/New_York
BEGIN:VEVENT
UID:431@templesholomflorida.org
DTSTART;TZID=America/New_York:20260302T110000
DTEND;TZID=America/New_York:20260302T140000
DTSTAMP:20260121T135604Z
URL:https://www.templesholomflorida.org/events/canasta-2026-01-05-2026-01-
 12-2026-01-19-2026-01-26-2026-02-02-2026-02-09-2026-02-16-2026-02-23-2026-
 03-02/
SUMMARY:Canasta
DESCRIPTION:
ATTACH;FMTTYPE=image/jpeg:https://www.templesholomflorida.org/wp-content/u
 ploads/2026/01/canasta.jpg
CATEGORIES:Ongoing Events
END:VEVENT
BEGIN:VTIMEZONE
TZID:America/New_York
X-LIC-LOCATION:America/New_York
BEGIN:STANDARD
DTSTART:20251102T010000
TZOFFSETFROM:-0400
TZOFFSETTO:-0500
TZNAME:EST
END:STANDARD
END:VTIMEZONE
END:VCALENDAR