BEGIN:VCALENDAR
VERSION:2.0
PRODID:-//wp-events-plugin.com//7.2.3.1//EN
TZID:America/New_York
X-WR-TIMEZONE:America/New_York
BEGIN:VEVENT
UID:639@templesholomflorida.org
DTSTART;TZID=America/New_York:20260625T110000
DTEND;TZID=America/New_York:20260625T110000
DTSTAMP:20260308T165112Z
URL:https://www.templesholomflorida.org/events/book-club-2026-06-25/
SUMMARY:Book Club Live
DESCRIPTION:Live at the Temple\n\nZoom only upon request. Contact the Siste
 rhood for details.\n\nDates:\n\n 	March 26th\, 2026 Miss Morgan's Book Bri
 dgade by Janet Skeslien Charles\n 	April 23rd\, 2026 - The House on Biscay
 ne Bay by Chanel Cleeton\n
ATTACH;FMTTYPE=image/jpeg:https://www.templesholomflorida.org/wp-content/u
 ploads/2026/01/book-club.jpg
CATEGORIES:Ongoing Events
END:VEVENT
BEGIN:VTIMEZONE
TZID:America/New_York
X-LIC-LOCATION:America/New_York
BEGIN:DAYLIGHT
DTSTART:20260308T030000
TZOFFSETFROM:-0500
TZOFFSETTO:-0400
TZNAME:EDT
END:DAYLIGHT
END:VTIMEZONE
END:VCALENDAR