BEGIN:VCALENDAR
VERSION:2.0
PRODID:-//wp-events-plugin.com//7.2.3.1//EN
TZID:America/New_York
X-WR-TIMEZONE:America/New_York
BEGIN:VEVENT
UID:662@templesholomflorida.org
DTSTART;TZID=America/New_York:20260310T130000
DTEND;TZID=America/New_York:20260310T130000
DTSTAMP:20260121T141646Z
URL:https://www.templesholomflorida.org/events/bingo-2026-02-10-2026-03-10
 /
SUMMARY:Bingo
DESCRIPTION:Doors open at 12:30 pm.\n\nEach packet contains 10 cards. Bingo
  cards and free dauber $20.\n\n(Extra cards sold at the door.)\n\nLast gam
 e cover all jackpot - $250.\n\nFree coffee and tea served for entire game.
  Cookies\, snacks and sodas available for purchase.\n\nCall Temple Sholom 
 at 954-942-6410 for more information.\n\nYou may pay by credit card\, cash
 \, checks or Zelle.
ATTACH;FMTTYPE=image/jpeg:https://www.templesholomflorida.org/wp-content/u
 ploads/2026/01/bingo.jpg
CATEGORIES:Ongoing Events
END:VEVENT
BEGIN:VTIMEZONE
TZID:America/New_York
X-LIC-LOCATION:America/New_York
BEGIN:DAYLIGHT
DTSTART:20260308T030000
TZOFFSETFROM:-0500
TZOFFSETTO:-0400
TZNAME:EDT
END:DAYLIGHT
END:VTIMEZONE
END:VCALENDAR